BEGIN:VCALENDAR
VERSION:2.0
PRODID:-//Modern Art Oxford - ECPv6.7.0//NONSGML v1.0//EN
CALSCALE:GREGORIAN
METHOD:PUBLISH
X-ORIGINAL-URL:https://mao-old.focus-pluto.co.uk
X-WR-CALDESC:Events for Modern Art Oxford
REFRESH-INTERVAL;VALUE=DURATION:PT1H
X-Robots-Tag:noindex
X-PUBLISHED-TTL:PT1H
BEGIN:VTIMEZONE
TZID:Europe/London
BEGIN:DAYLIGHT
TZOFFSETFROM:+0000
TZOFFSETTO:+0100
TZNAME:BST
DTSTART:20150329T010000
END:DAYLIGHT
BEGIN:STANDARD
TZOFFSETFROM:+0100
TZOFFSETTO:+0000
TZNAME:GMT
DTSTART:20151025T010000
END:STANDARD
BEGIN:DAYLIGHT
TZOFFSETFROM:+0000
TZOFFSETTO:+0100
TZNAME:BST
DTSTART:20160327T010000
END:DAYLIGHT
BEGIN:STANDARD
TZOFFSETFROM:+0100
TZOFFSETTO:+0000
TZNAME:GMT
DTSTART:20161030T010000
END:STANDARD
BEGIN:DAYLIGHT
TZOFFSETFROM:+0000
TZOFFSETTO:+0100
TZNAME:BST
DTSTART:20170326T010000
END:DAYLIGHT
BEGIN:STANDARD
TZOFFSETFROM:+0100
TZOFFSETTO:+0000
TZNAME:GMT
DTSTART:20171029T010000
END:STANDARD
BEGIN:DAYLIGHT
TZOFFSETFROM:+0000
TZOFFSETTO:+0100
TZNAME:BST
DTSTART:20180325T010000
END:DAYLIGHT
BEGIN:STANDARD
TZOFFSETFROM:+0100
TZOFFSETTO:+0000
TZNAME:GMT
DTSTART:20181028T010000
END:STANDARD
END:VTIMEZONE
BEGIN:VEVENT
DTSTART;TZID=Europe/London:20181106T193000
DTEND;TZID=Europe/London:20181106T220000
DTSTAMP:20260421T140714
CREATED:20180813T103225Z
LAST-MODIFIED:20181011T105822Z
UID:25546-1541532600-1541541600@mao-old.focus-pluto.co.uk
SUMMARY:Modern Art Oxford and Jericho Tavern presents: You and Whose Army?
DESCRIPTION:
URL:https://mao-old.focus-pluto.co.uk/event/modern-art-oxford-jericho-tavern-presents-whose-army/
CATEGORIES:Music,Performance
ATTACH;FMTTYPE=image/jpeg:https://mao-old.focus-pluto.co.uk/wp-content/uploads/2018/08/Hardeep-and-drew-image-for-webpage-banner-.jpg
END:VEVENT
BEGIN:VEVENT
DTSTART;TZID=Europe/London:20181027T183000
DTEND;TZID=Europe/London:20181027T220000
DTSTAMP:20260421T140714
CREATED:20180830T120831Z
LAST-MODIFIED:20180910T123411Z
UID:25713-1540665000-1540677600@mao-old.focus-pluto.co.uk
SUMMARY:Irregular Folks and Modern Art Oxford present: You Are Wolf + David Bramwell's The Cult of Water
DESCRIPTION:
URL:https://mao-old.focus-pluto.co.uk/event/irregular-folks-modern-art-oxford-present-wolf-david-bramwells-cult-water-saturday-27-october-6-9pm/
CATEGORIES:Music,Performance
ATTACH;FMTTYPE=image/png:https://mao-old.focus-pluto.co.uk/wp-content/uploads/2018/08/IFMAO_BannerImage.png
END:VEVENT
BEGIN:VEVENT
DTSTART;TZID=Europe/London:20181011T183000
DTEND;TZID=Europe/London:20181011T200000
DTSTAMP:20260421T140714
CREATED:20180907T135437Z
LAST-MODIFIED:20181009T133719Z
UID:25957-1539282600-1539288000@mao-old.focus-pluto.co.uk
SUMMARY:Wythamscapes
DESCRIPTION:
URL:https://mao-old.focus-pluto.co.uk/event/eric-clarke-music-ensemble-wytham-project/
CATEGORIES:Music,Performance
ATTACH;FMTTYPE=image/jpeg:https://mao-old.focus-pluto.co.uk/wp-content/uploads/2018/09/under-the-old-oak-scaled.jpg
END:VEVENT
BEGIN:VEVENT
DTSTART;TZID=Europe/London:20180909T140000
DTEND;TZID=Europe/London:20180909T150000
DTSTAMP:20260421T140714
CREATED:20180824T092035Z
LAST-MODIFIED:20180824T131535Z
UID:25649-1536501600-1536505200@mao-old.focus-pluto.co.uk
SUMMARY:Platform 2018 - Louise Povey artist talk and performance
DESCRIPTION:
URL:https://mao-old.focus-pluto.co.uk/event/platform-2018-louise-povey-artist-talk-performance/
CATEGORIES:Performance,Talk
ATTACH;FMTTYPE=image/png:https://mao-old.focus-pluto.co.uk/wp-content/uploads/2018/08/Vanishing-Point-3.png
END:VEVENT
BEGIN:VEVENT
DTSTART;TZID=Europe/London:20180503T190000
DTEND;TZID=Europe/London:20180503T213000
DTSTAMP:20260421T140714
CREATED:20180212T120709Z
LAST-MODIFIED:20180503T144445Z
UID:22898-1525374000-1525383000@mao-old.focus-pluto.co.uk
SUMMARY:EMPRES and Modern Art Oxford presents: The Art of Noises
DESCRIPTION:
URL:https://mao-old.focus-pluto.co.uk/event/the-art-of-noises/
CATEGORIES:Music,Performance,Workshop
ATTACH;FMTTYPE=image/png:https://mao-old.focus-pluto.co.uk/wp-content/uploads/2018/02/Vertigo-Oxford-music-faculty-EMPRESS4.png
END:VEVENT
BEGIN:VEVENT
DTSTART;TZID=Europe/London:20171116T193000
DTEND;TZID=Europe/London:20171116T220000
DTSTAMP:20260421T140714
CREATED:20170921T090052Z
LAST-MODIFIED:20170922T080429Z
UID:20477-1510860600-1510869600@mao-old.focus-pluto.co.uk
SUMMARY:Martin Creed: Words and Music
DESCRIPTION:
URL:https://mao-old.focus-pluto.co.uk/event/martin-creed-words-music/
CATEGORIES:Music,Performance
ATTACH;FMTTYPE=image/png:https://mao-old.focus-pluto.co.uk/wp-content/uploads/2017/09/martin-creed1400x800-v2.png
END:VEVENT
BEGIN:VEVENT
DTSTART;TZID=Europe/London:20170429T190000
DTEND;TZID=Europe/London:20170429T210000
DTSTAMP:20260421T140714
CREATED:20170410T111214Z
LAST-MODIFIED:20170420T133532Z
UID:17685-1493492400-1493499600@mao-old.focus-pluto.co.uk
SUMMARY:Mandala Theatre Monologues
DESCRIPTION:
URL:https://mao-old.focus-pluto.co.uk/event/mandala-theatre-monologues/
CATEGORIES:Performance
ATTACH;FMTTYPE=image/jpeg:https://mao-old.focus-pluto.co.uk/wp-content/uploads/2017/01/STU_0648DPP4_001.jpeg
END:VEVENT
BEGIN:VEVENT
DTSTART;TZID=Europe/London:20170323T190000
DTEND;TZID=Europe/London:20170323T200000
DTSTAMP:20260421T140714
CREATED:20170111T142419Z
LAST-MODIFIED:20170323T104127Z
UID:16235-1490295600-1490299200@mao-old.focus-pluto.co.uk
SUMMARY:Ending the Silence by Euton Daley
DESCRIPTION:
URL:https://mao-old.focus-pluto.co.uk/event/ending-silence-euton-daley-2/
CATEGORIES:Performance
ATTACH;FMTTYPE=image/png:https://mao-old.focus-pluto.co.uk/wp-content/uploads/2017/01/Euton-Daley.png
END:VEVENT
BEGIN:VEVENT
DTSTART;TZID=Europe/London:20170228T190000
DTEND;TZID=Europe/London:20170429T210000
DTSTAMP:20260421T140714
CREATED:20170111T150808Z
LAST-MODIFIED:20170410T105410Z
UID:16250-1488308400-1493499600@mao-old.focus-pluto.co.uk
SUMMARY:Mandala Theatre Residency
DESCRIPTION:
URL:https://mao-old.focus-pluto.co.uk/event/mandala-theatre-residency/
CATEGORIES:Course,Performance,Workshop
ATTACH;FMTTYPE=image/jpeg:https://mao-old.focus-pluto.co.uk/wp-content/uploads/2017/01/For-Mandala-Training-3-scaled.jpg
END:VEVENT
BEGIN:VEVENT
DTSTART;TZID=Europe/London:20170120T183000
DTEND;TZID=Europe/London:20170120T210000
DTSTAMP:20260421T140714
CREATED:20161221T115659Z
LAST-MODIFIED:20170120T132914Z
UID:15973-1484937000-1484946000@mao-old.focus-pluto.co.uk
SUMMARY:Lubaina Himid: Invisible Strategies - Preview Party
DESCRIPTION:
URL:https://mao-old.focus-pluto.co.uk/event/lubainapreviewparty/
CATEGORIES:Performance,Preview
ATTACH;FMTTYPE=image/jpeg:https://mao-old.focus-pluto.co.uk/wp-content/uploads/2016/11/01-2.jpg
END:VEVENT
BEGIN:VEVENT
DTSTART;TZID=Europe/London:20161126T190000
DTEND;TZID=Europe/London:20161126T200000
DTSTAMP:20260421T140714
CREATED:20161019T132158Z
LAST-MODIFIED:20161031T142405Z
UID:15118-1480186800-1480190400@mao-old.focus-pluto.co.uk
SUMMARY:Performance: Corin Sworn & Cara Tolmie
DESCRIPTION:
URL:https://mao-old.focus-pluto.co.uk/event/performance-corin-sworn-cara-tolmie/
CATEGORIES:Performance
ATTACH;FMTTYPE=image/jpeg:https://mao-old.focus-pluto.co.uk/wp-content/uploads/2016/10/low-res-Corin-Sworn-scaled.jpg
END:VEVENT
BEGIN:VEVENT
DTSTART;TZID=Europe/London:20161124T190000
DTEND;TZID=Europe/London:20161124T200000
DTSTAMP:20260421T140714
CREATED:20161031T175557Z
LAST-MODIFIED:20161121T152613Z
UID:15311-1480014000-1480017600@mao-old.focus-pluto.co.uk
SUMMARY:Sally O'Reilly: Live Illuminated Manuscript
DESCRIPTION:
URL:https://mao-old.focus-pluto.co.uk/event/sally-oreilly-live-illuminated-manuscript/
CATEGORIES:Performance
ATTACH;FMTTYPE=image/jpeg:https://mao-old.focus-pluto.co.uk/wp-content/uploads/2016/10/STU_5519DPP4_001-scaled.jpg
END:VEVENT
BEGIN:VEVENT
DTSTART;TZID=Europe/London:20160917T120000
DTEND;TZID=Europe/London:20160917T150000
DTSTAMP:20260421T140714
CREATED:20160809T093517Z
LAST-MODIFIED:20160831T092200Z
UID:14205-1474113600-1474124400@mao-old.focus-pluto.co.uk
SUMMARY:KALEIDOSCOPE Live: Beat Down presented by Young Women's Music Project
DESCRIPTION:
URL:https://mao-old.focus-pluto.co.uk/event/kaleidoscope-live-young-womens-music-project/
CATEGORIES:Performance,Workshop
ATTACH;FMTTYPE=image/jpeg:https://mao-old.focus-pluto.co.uk/wp-content/uploads/2016/08/IMG_1878.jpg
END:VEVENT
BEGIN:VEVENT
DTSTART;TZID=Europe/London:20160915T190000
DTEND;TZID=Europe/London:20160915T203000
DTSTAMP:20260421T140714
CREATED:20160809T102537Z
LAST-MODIFIED:20160913T143823Z
UID:14226-1473966000-1473971400@mao-old.focus-pluto.co.uk
SUMMARY:Brookes Film & Performance Night
DESCRIPTION:
URL:https://mao-old.focus-pluto.co.uk/event/brookes-film-performance-night/
CATEGORIES:Film,Performance
ATTACH;FMTTYPE=image/jpeg:https://mao-old.focus-pluto.co.uk/wp-content/uploads/2016/08/MAO-Stills-1.9.jpg
END:VEVENT
BEGIN:VEVENT
DTSTART;TZID=Europe/London:20160901T190000
DTEND;TZID=Europe/London:20160901T203000
DTSTAMP:20260421T140714
CREATED:20160809T082721Z
LAST-MODIFIED:20160901T115041Z
UID:14195-1472756400-1472761800@mao-old.focus-pluto.co.uk
SUMMARY:KALEIDOSCOPE Live: The Archive Box - Urr
DESCRIPTION:
URL:https://mao-old.focus-pluto.co.uk/event/kaleidoscope-live-archive-box-urr/
CATEGORIES:Performance
ATTACH;FMTTYPE=image/jpeg:https://mao-old.focus-pluto.co.uk/wp-content/uploads/2016/08/Urr-large-scaled.jpg
END:VEVENT
BEGIN:VEVENT
DTSTART;TZID=Europe/London:20160804T190000
DTEND;TZID=Europe/London:20160804T200000
DTSTAMP:20260421T140714
CREATED:20160520T101348Z
LAST-MODIFIED:20161121T164237Z
UID:13296-1470337200-1470340800@mao-old.focus-pluto.co.uk
SUMMARY:KALEIDOSCOPE Live - Sally O'Reilly: Live Illuminated Manuscript
DESCRIPTION:
URL:https://mao-old.focus-pluto.co.uk/event/kaleidoscope-live-sally-oreilly-live-illuminated-manuscript-2/
CATEGORIES:Performance
ATTACH;FMTTYPE=image/jpeg:https://mao-old.focus-pluto.co.uk/wp-content/uploads/2016/05/crop-2.jpg
END:VEVENT
BEGIN:VEVENT
DTSTART;TZID=Europe/London:20160519T190000
DTEND;TZID=Europe/London:20160519T200000
DTSTAMP:20260421T140714
CREATED:20160411T074618Z
LAST-MODIFIED:20160519T092521Z
UID:12475-1463684400-1463688000@mao-old.focus-pluto.co.uk
SUMMARY:KALEIDOSCOPE Live - Open Music Archive\, Premonition 2037: Lutto Lento
DESCRIPTION:
URL:https://mao-old.focus-pluto.co.uk/event/kaleidoscope-live-open-music-archive-premonition-20137-lutto-lento/
CATEGORIES:Performance
ATTACH;FMTTYPE=image/jpeg:https://mao-old.focus-pluto.co.uk/wp-content/uploads/2016/04/FullSizeRender-scaled.jpg
END:VEVENT
BEGIN:VEVENT
DTSTART;TZID=Europe/London:20160514T150000
DTEND;TZID=Europe/London:20160514T160000
DTSTAMP:20260421T140714
CREATED:20160405T085701Z
LAST-MODIFIED:20160509T125329Z
UID:12456-1463238000-1463241600@mao-old.focus-pluto.co.uk
SUMMARY:KALEIDOSCOPE Live – Open Music Archive\, Premonition 2037: Young Women's Music Project
DESCRIPTION:
URL:https://mao-old.focus-pluto.co.uk/event/kaleidoscope-live-open-music-archive-premonition-2037-young-womens-music-project/
CATEGORIES:Performance
ATTACH;FMTTYPE=image/jpeg:https://mao-old.focus-pluto.co.uk/wp-content/uploads/2015/09/logo-sample-YWMP-fist.jpg
END:VEVENT
BEGIN:VEVENT
DTSTART;TZID=Europe/London:20160505T190000
DTEND;TZID=Europe/London:20160505T200000
DTSTAMP:20260421T140714
CREATED:20160405T085623Z
LAST-MODIFIED:20160411T074819Z
UID:12471-1462474800-1462478400@mao-old.focus-pluto.co.uk
SUMMARY:KALEIDOSCOPE Live - Open Music Archive\, Premonition 2037: Bambooman
DESCRIPTION:
URL:https://mao-old.focus-pluto.co.uk/event/kaleidoscope-live-open-music-archive-premonition-2037-bambooman/
CATEGORIES:Performance
ATTACH;FMTTYPE=image/jpeg:https://mao-old.focus-pluto.co.uk/wp-content/uploads/2016/04/bambooman.jpeg
END:VEVENT
BEGIN:VEVENT
DTSTART;TZID=Europe/London:20160428T190000
DTEND;TZID=Europe/London:20160428T210000
DTSTAMP:20260421T140714
CREATED:20160401T110207Z
LAST-MODIFIED:20180306T114945Z
UID:12462-1461870000-1461877200@mao-old.focus-pluto.co.uk
SUMMARY:KALEIDOSCOPE Live: R-Kive® Fever by BANKERS BOX® by Andrea Mason
DESCRIPTION:
URL:https://mao-old.focus-pluto.co.uk/event/kaleidoscope-live-r-kive-bankers-box/
CATEGORIES:Performance
ATTACH;FMTTYPE=image/jpeg:https://mao-old.focus-pluto.co.uk/wp-content/uploads/2016/04/Oxford-pic-scaled.jpg
END:VEVENT
BEGIN:VEVENT
DTSTART;TZID=Europe/London:20160402T120000
DTEND;TZID=Europe/London:20160402T170000
DTSTAMP:20260421T140714
CREATED:20160321T141538Z
LAST-MODIFIED:20160321T141538Z
UID:12260-1459598400-1459616400@mao-old.focus-pluto.co.uk
SUMMARY:KALEIDOSCOPE Live - Dog Kennel Hill Project: Shelley on a Loop [2 April]
DESCRIPTION:
URL:https://mao-old.focus-pluto.co.uk/event/kaleidoscope-live-dog-kennel-hill-project-shelley-loop-2-april/
CATEGORIES:Performance
ATTACH;FMTTYPE=image/jpeg:https://mao-old.focus-pluto.co.uk/wp-content/uploads/2016/01/shelley-poster-own-clothes-scaled.jpg
END:VEVENT
BEGIN:VEVENT
DTSTART;TZID=Europe/London:20160331T193000
DTEND;TZID=Europe/London:20160331T210000
DTSTAMP:20260421T140714
CREATED:20160223T132814Z
LAST-MODIFIED:20160301T150843Z
UID:11929-1459452600-1459458000@mao-old.focus-pluto.co.uk
SUMMARY:KALEIDOSCOPE Live - Dog Kennel Hill Project & Dr Guido Orgs: Our True Feelings
DESCRIPTION:
URL:https://mao-old.focus-pluto.co.uk/event/kaleidoscope-live-dog-kennel-hill-project-our-true-feelings/
CATEGORIES:Performance,Talk
ATTACH;FMTTYPE=image/jpeg:https://mao-old.focus-pluto.co.uk/wp-content/uploads/2016/02/hen-ekman-scaled.jpg
END:VEVENT
BEGIN:VEVENT
DTSTART;TZID=Europe/London:20160326T120000
DTEND;TZID=Europe/London:20160326T170000
DTSTAMP:20260421T140714
CREATED:20160108T120208Z
LAST-MODIFIED:20160321T141541Z
UID:10761-1458993600-1459011600@mao-old.focus-pluto.co.uk
SUMMARY:KALEIDOSCOPE Live - Dog Kennel Hill Project: Shelley on a Loop [26 March]
DESCRIPTION:
URL:https://mao-old.focus-pluto.co.uk/event/kaleidoscope-live-dog-kennel-hill-project-shelley-on-a-loop/
CATEGORIES:Performance
ATTACH;FMTTYPE=image/jpeg:https://mao-old.focus-pluto.co.uk/wp-content/uploads/2016/01/shelley-poster-own-clothes-scaled.jpg
END:VEVENT
BEGIN:VEVENT
DTSTART;TZID=Europe/London:20160324T190000
DTEND;TZID=Europe/London:20160324T203000
DTSTAMP:20260421T140714
CREATED:20160108T111614Z
LAST-MODIFIED:20160108T121706Z
UID:10758-1458846000-1458851400@mao-old.focus-pluto.co.uk
SUMMARY:KALEIDOSCOPE Live - Dog Kennel Hill Project: Choreography of An Argument Round A Table
DESCRIPTION:
URL:https://mao-old.focus-pluto.co.uk/event/kaleidoscope-live-dog-kennel-hill-project-choreography-of-an-argument-round-a-table/
CATEGORIES:Performance
ATTACH;FMTTYPE=image/jpeg:https://mao-old.focus-pluto.co.uk/wp-content/uploads/2016/01/ARGUMENT-FINISHED-scaled.jpg
END:VEVENT
BEGIN:VEVENT
DTSTART;TZID=Europe/London:20160225T190000
DTEND;TZID=Europe/London:20160225T203000
DTSTAMP:20260421T140714
CREATED:20160107T160855Z
LAST-MODIFIED:20160226T150240Z
UID:10742-1456426800-1456432200@mao-old.focus-pluto.co.uk
SUMMARY:KALEIDOSCOPE Live Sally O'Reilly: Live Illuminated Manuscript
DESCRIPTION:
URL:https://mao-old.focus-pluto.co.uk/event/kaleidoscope-live-sally-oreilly-live-illuminated-manuscript/
CATEGORIES:Performance
ATTACH;FMTTYPE=image/jpeg:https://mao-old.focus-pluto.co.uk/wp-content/uploads/2016/01/SOR-wisdom.jpg
END:VEVENT
BEGIN:VEVENT
DTSTART;TZID=Europe/London:20151213T173000
DTEND;TZID=Europe/London:20151213T203000
DTSTAMP:20260421T140714
CREATED:20151030T111335Z
LAST-MODIFIED:20151216T163510Z
UID:9754-1450027800-1450038600@mao-old.focus-pluto.co.uk
SUMMARY:Basement TV: The Set
DESCRIPTION:
URL:https://mao-old.focus-pluto.co.uk/event/basement-tv-performance-the-set/
CATEGORIES:Performance
ATTACH;FMTTYPE=image/jpeg:https://mao-old.focus-pluto.co.uk/wp-content/uploads/2015/10/btv-3.jpg
END:VEVENT
BEGIN:VEVENT
DTSTART;TZID=Europe/London:20151107T110000
DTEND;TZID=Europe/London:20151220T170000
DTSTAMP:20260421T140714
CREATED:20150915T110814Z
LAST-MODIFIED:20151020T112713Z
UID:8922-1446894000-1450630800@mao-old.focus-pluto.co.uk
SUMMARY:Film Studio
DESCRIPTION:
URL:https://mao-old.focus-pluto.co.uk/event/film-studio-2/
CATEGORIES:Exhibition,Film,Performance,Workshop
ATTACH;FMTTYPE=image/jpeg:https://mao-old.focus-pluto.co.uk/wp-content/uploads/2015/09/process-2.jpg
END:VEVENT
BEGIN:VEVENT
DTSTART;TZID=Europe/London:20151015T193000
DTEND;TZID=Europe/London:20151015T213000
DTSTAMP:20260421T140714
CREATED:20150923T115358Z
LAST-MODIFIED:20150923T115358Z
UID:8994-1444937400-1444944600@mao-old.focus-pluto.co.uk
SUMMARY:Music: Sabrina Chap and Rawz
DESCRIPTION:
URL:https://mao-old.focus-pluto.co.uk/event/music-sabrina-chap-and-rawz/
CATEGORIES:Music,Performance
ATTACH;FMTTYPE=image/jpeg:https://mao-old.focus-pluto.co.uk/wp-content/uploads/2015/09/Rawz.jpg
END:VEVENT
BEGIN:VEVENT
DTSTART;TZID=Europe/London:20151013T110000
DTEND;TZID=Europe/London:20151018T170000
DTSTAMP:20260421T140714
CREATED:20150923T114354Z
LAST-MODIFIED:20150928T124532Z
UID:8989-1444734000-1445187600@mao-old.focus-pluto.co.uk
SUMMARY:Young Women's Music Project: Track Me - Music for Documentary
DESCRIPTION:
URL:https://mao-old.focus-pluto.co.uk/event/young-womens-music-project-track-me-music-for-documentary/
CATEGORIES:Music,Performance,Talk,Workshop
ATTACH;FMTTYPE=image/jpeg:https://mao-old.focus-pluto.co.uk/wp-content/uploads/2015/09/logo-YWMP-sample.jpg
END:VEVENT
BEGIN:VEVENT
DTSTART;TZID=Europe/London:20150801T140000
DTEND;TZID=Europe/London:20150801T150000
DTSTAMP:20260421T140714
CREATED:20150720T102021Z
LAST-MODIFIED:20150810T120528Z
UID:7584-1438437600-1438441200@mao-old.focus-pluto.co.uk
SUMMARY:Emily Willey - Performance & Screening
DESCRIPTION:
URL:https://mao-old.focus-pluto.co.uk/event/emily-willey-performance-screening/
CATEGORIES:Film,Performance
ATTACH;FMTTYPE=image/jpeg:https://mao-old.focus-pluto.co.uk/wp-content/uploads/2015/07/Emily-Willey-film-still.jpg
END:VEVENT
END:VCALENDAR